BEGIN:VCALENDAR
VERSION:2.0
PRODID:-//Birch&#039;s on the Lake - ECPv6.15.20//NONSGML v1.0//EN
CALSCALE:GREGORIAN
METHOD:PUBLISH
X-WR-CALNAME:Birch&#039;s on the Lake
X-ORIGINAL-URL:https://birchsonthelake.com
X-WR-CALDESC:Events for Birch&#039;s on the Lake
REFRESH-INTERVAL;VALUE=DURATION:PT1H
X-Robots-Tag:noindex
X-PUBLISHED-TTL:PT1H
BEGIN:VTIMEZONE
TZID:America/New_York
BEGIN:DAYLIGHT
TZOFFSETFROM:-0500
TZOFFSETTO:-0400
TZNAME:EDT
DTSTART:20250309T070000
END:DAYLIGHT
BEGIN:STANDARD
TZOFFSETFROM:-0400
TZOFFSETTO:-0500
TZNAME:EST
DTSTART:20251102T060000
END:STANDARD
BEGIN:DAYLIGHT
TZOFFSETFROM:-0500
TZOFFSETTO:-0400
TZNAME:EDT
DTSTART:20260308T070000
END:DAYLIGHT
BEGIN:STANDARD
TZOFFSETFROM:-0400
TZOFFSETTO:-0500
TZNAME:EST
DTSTART:20261101T060000
END:STANDARD
BEGIN:DAYLIGHT
TZOFFSETFROM:-0500
TZOFFSETTO:-0400
TZNAME:EDT
DTSTART:20270314T070000
END:DAYLIGHT
BEGIN:STANDARD
TZOFFSETFROM:-0400
TZOFFSETTO:-0500
TZNAME:EST
DTSTART:20271107T060000
END:STANDARD
END:VTIMEZONE
BEGIN:VTIMEZONE
TZID:UTC
BEGIN:STANDARD
TZOFFSETFROM:+0000
TZOFFSETTO:+0000
TZNAME:UTC
DTSTART:20250101T000000
END:STANDARD
END:VTIMEZONE
BEGIN:VEVENT
DTSTART;TZID=America/New_York:20260223T110000
DTEND;TZID=America/New_York:20260301T210000
DTSTAMP:20260423T042643
CREATED:20190109T232136Z
LAST-MODIFIED:20260205T214849Z
UID:1732-1771844400-1772398800@birchsonthelake.com
SUMMARY:MSP Magazine Winter Restaurant Week
DESCRIPTION:We are participating again this Winter in the Mpls. St. Paul Magazine’s celebration of the best of Twin Cities dining with a week’s worth of great deals from February 23rd – March 1st. We will be offering a $30 Lunch two course and a $45 Dinner 3 course prix fixe menu (beverage\, tax and gratuity not included).  Join us for a week of our best deals!
URL:https://birchsonthelake.com/event/restaurant-week-at-birchs-on-the-lake-feb-17-feb-22nd/
LOCATION:Birch’s on the Lake\, 1310 Wayzata Boulevard\, Long Lake\, MN\, 55356\, United States
CATEGORIES:Birch's on the Lake
ATTACH;FMTTYPE=image/jpeg:https://birchsonthelake.com/wp-content/uploads/2019/01/Birchs_RestWeek02.26_1080x1350-4.jpg
END:VEVENT
BEGIN:VEVENT
DTSTART;TZID=UTC:20260306T193000
DTEND;TZID=UTC:20260306T223000
DTSTAMP:20260423T042643
CREATED:20240610T194108Z
LAST-MODIFIED:20260303T013615Z
UID:4443-1772825400-1772836200@birchsonthelake.com
SUMMARY:Live Music Friday's with Jason Peterson DeLaire in the Brewhouse
DESCRIPTION:Live Music with Jason Peterson DeLaire performing with Linda Peterson in the Brewhouse from 7:30-10:30pm. Come out early to get a seat!
URL:https://birchsonthelake.com/event/live-music-fridays-in-the-brewhouse-copy-3/
LOCATION:Birch’s on the Lake | Brewhouse\, 1310 Wayzata Boulevard\, Long Lake\, MN\, 55356\, United States
CATEGORIES:Birch's on the Lake,Brewhouse
ATTACH;FMTTYPE=image/jpeg:https://birchsonthelake.com/wp-content/uploads/2024/06/unnamed-16.jpg
END:VEVENT
BEGIN:VEVENT
DTSTART;TZID=UTC:20260308T160000
DTEND;TZID=UTC:20260308T190000
DTSTAMP:20260423T042643
CREATED:20230531T133513Z
LAST-MODIFIED:20260303T015300Z
UID:1419-1772985600-1772996400@birchsonthelake.com
SUMMARY:Jeff Dayton Trio performing in the Brewhouse
DESCRIPTION:Back by popular demand……Jeff Dayton & Friends performing in Birch’s Brewhouse from 4-7pm. No cover. Come early to get a seat!
URL:https://birchsonthelake.com/event/steve-dayton-in-the-brewhouse-2023/
LOCATION:Birch’s on the Lake | Brewhouse\, 1310 Wayzata Boulevard\, Long Lake\, MN\, 55356\, United States
CATEGORIES:Brewhouse
ATTACH;FMTTYPE=image/jpeg:https://birchsonthelake.com/wp-content/uploads/2023/05/JeffDaytonTrio.jpg
END:VEVENT
BEGIN:VEVENT
DTSTART;TZID=America/New_York:20260313T110000
DTEND;TZID=America/New_York:20260317T210000
DTSTAMP:20260423T042643
CREATED:20210217T211443Z
LAST-MODIFIED:20260218T171354Z
UID:3088-1773399600-1773781200@birchsonthelake.com
SUMMARY:St. Patrick's Day Special Menu March 13th-17th
DESCRIPTION:Join us as we celebrate the Luck of the Irish with our St. Patrick’s Day Special Menu available from March 13th – 17th and enjoy one of our Irish Specialty Drinks with your Irish Fare! Walk in’s are welcome in the Brewhouse or Reserve a Table in the Supperclub.
URL:https://birchsonthelake.com/event/st-patricks-day-special-menu-march-17th-march-20th/
LOCATION:Birch’s on the Lake\, 1310 Wayzata Boulevard\, Long Lake\, MN\, 55356\, United States
ATTACH;FMTTYPE=application/pdf:https://birchsonthelake.com/wp-content/uploads/2021/02/Stpatsmenu2026.pdf
END:VEVENT
BEGIN:VEVENT
DTSTART;TZID=America/New_York:20260313T193000
DTEND;TZID=America/New_York:20260313T223000
DTSTAMP:20260423T042643
CREATED:20250521T181659Z
LAST-MODIFIED:20260121T222938Z
UID:4937-1773430200-1773441000@birchsonthelake.com
SUMMARY:Friday Night Acoustic with Bjorn Briel in the Brewhouse
DESCRIPTION:Don’t miss Bjorn Briel performing in the Brewhouse!  Such an incredible show. Singer\, Songwriter and pianist\, Briel brings a new feel to classic genres. No cover charge. Come early to get a seat!
URL:https://birchsonthelake.com/event/bjorn-briel-performing-in-the-brewhouse-copy-2-copy-copy-copy-2-copy/
LOCATION:Birch’s on the Lake | Brewhouse\, 1310 Wayzata Boulevard\, Long Lake\, MN\, 55356\, United States
CATEGORIES:Brewhouse
ATTACH;FMTTYPE=image/jpeg:https://birchsonthelake.com/wp-content/uploads/2023/07/image2.jpeg
END:VEVENT
BEGIN:VEVENT
DTSTART;TZID=America/New_York:20260314T150000
DTEND;TZID=America/New_York:20260314T220000
DTSTAMP:20260423T042643
CREATED:20181226T185951Z
LAST-MODIFIED:20260317T011745Z
UID:1697-1773500400-1773525600@birchsonthelake.com
SUMMARY:St. Patrick's Weekend Live Music Line-Up
DESCRIPTION:IT’S TIME TO GET YOUR GREEN ON! 🍻 \nJoin us at Birch’s on the Lake for our St. Patrick’s Shamrockin’ Party on Saturday\, March 14th! We’re going big with a full day of music\, brews\, and Irish spirit!  Get your green on and get to Birch’s! 🍻 \n3pm – 6pm: DJ Roxanne is “green bouncing” the deck for our DJ Dublin Deck Party. Expect high energy and lake views. 🎧💚 \n7pm – 10pm: The party moves to the Brewhouse for a Pub Session featuring the legendary Todd Epley & Tim Mahoney. 🎸🍀 \nGrab your friends\, wear your best green gear\, and let’s make some luck!
URL:https://birchsonthelake.com/event/acoustic-thursday-with-ali-joe-in-the-brewhouse/
LOCATION:Birch’s on the Lake | Brewhouse\, 1310 Wayzata Boulevard\, Long Lake\, MN\, 55356\, United States
CATEGORIES:Brewhouse
ATTACH;FMTTYPE=image/jpeg:https://birchsonthelake.com/wp-content/uploads/2018/12/Birchs_StPaddysDay2026_SocialMedia_1080x1350-1.jpg
END:VEVENT
BEGIN:VEVENT
DTSTART;TZID=UTC:20260320T193000
DTEND;TZID=UTC:20260320T223000
DTSTAMP:20260423T042643
CREATED:20241104T213113Z
LAST-MODIFIED:20260121T222939Z
UID:4627-1774035000-1774045800@birchsonthelake.com
SUMMARY:Live Music Friday Nights with Mike Bustin in the Brewhouse
DESCRIPTION:Live music every Friday night in the Brewhouse with Mike Bustin performing from 7:30-10:30pm. No cover. Come early to get a seat!
URL:https://birchsonthelake.com/event/live-music-friday-nights-in-the-brewhouse-copy/
LOCATION:Birch’s on the Lake | Brewhouse\, 1310 Wayzata Boulevard\, Long Lake\, MN\, 55356\, United States
CATEGORIES:Brewhouse
ATTACH;FMTTYPE=image/jpeg:https://birchsonthelake.com/wp-content/uploads/2022/07/IMG_0370.jpeg
END:VEVENT
BEGIN:VEVENT
DTSTART;TZID=UTC:20260321T190000
DTEND;TZID=UTC:20260321T220000
DTSTAMP:20260423T042643
CREATED:20250722T220446Z
LAST-MODIFIED:20260318T184233Z
UID:5052-1774119600-1774130400@birchsonthelake.com
SUMMARY:Benny Weinbeck at the Supperclub Stage
DESCRIPTION:Benny Weinbeck is back performing at the Supperclub Stage from 7-10pm!  Dinner reservations available for dining or walk-in seating at the Supperclub Bar. No cover charge. Come early to get a seat!
URL:https://birchsonthelake.com/event/recurring-event-benny-weinbeck-duo-in-the-supper-club-piano-bar-5-25-copy-copy-2-copy-copy-3-copy-copy-2-copy-copy-copy-copy-copy-copy-copy-2-copy-3-copy-copy-copy-copy-2-copy-3-copy-4-copy-copy/
LOCATION:Birch’s on the Lake | Supperclub\, 1310 Wayzata Boulevard\, Long Lake\, MN\, 55356\, United States
CATEGORIES:Supperclub
ATTACH;FMTTYPE=image/jpeg:https://birchsonthelake.com/wp-content/uploads/2025/07/Benny-0669.jpeg
END:VEVENT
BEGIN:VEVENT
DTSTART;TZID=America/New_York:20260327T193000
DTEND;TZID=America/New_York:20260327T223000
DTSTAMP:20260423T042643
CREATED:20250319T203131Z
LAST-MODIFIED:20260121T222938Z
UID:4766-1774639800-1774650600@birchsonthelake.com
SUMMARY:Acoustic Friday with Ali & Joe in the Brewhouse
DESCRIPTION:Join us for Live Music in the Brewhouse with Ali & Joe performing from 7:30-10:30pm. No cover charge. Come early to get a seat!
URL:https://birchsonthelake.com/event/acoustic-thursday-with-brian-dickenson-2-copy-copy-copy/
LOCATION:Birch’s on the Lake | Brewhouse\, 1310 Wayzata Boulevard\, Long Lake\, MN\, 55356\, United States
CATEGORIES:Brewhouse
ATTACH;FMTTYPE=image/jpeg:https://birchsonthelake.com/wp-content/uploads/2018/04/AliandJoe2.jpg
END:VEVENT
BEGIN:VEVENT
DTSTART;TZID=America/New_York:20260331T130000
DTEND;TZID=America/New_York:20260331T150000
DTSTAMP:20260423T042643
CREATED:20200109T015704Z
LAST-MODIFIED:20260323T141111Z
UID:2264-1774962000-1774969200@birchsonthelake.com
SUMMARY:Spring Wine Pairing Luncheon
DESCRIPTION:You’re Invited: A Taste of Spain Spring Wine Pairing Luncheon\nShake off the last of the winter chill and join us for an afternoon of bright flavors and exceptional company. We’re celebrating the arrival of Spring with a curated three-course prix fixe menu\, where each dish is thoughtfully paired with a premier Spanish vintage. \nFrom the crisp whites of Rías Baixas to the bold reds of Rioja\, prepare your palate for a journey across the Iberian Peninsula. \n$50 per person charge at the table. Space is limited to ensure an intimate tasting experience. Please secure your seat today! \nTime to get together for a celebration of  Spring! \nRegister for the Spring Wine Luncheon
URL:https://birchsonthelake.com/event/spring-wine-pairing-luncheon/
LOCATION:Birch’s on the Lake | Supperclub\, 1310 Wayzata Boulevard\, Long Lake\, MN\, 55356\, United States
CATEGORIES:Birch's on the Lake,Supperclub
ATTACH;FMTTYPE=image/jpeg:https://birchsonthelake.com/wp-content/uploads/2020/01/Birchs_SpringWineLuncheon2026_SocialMedia_1080x1350.jpg
END:VEVENT
END:VCALENDAR