BEGIN:VCALENDAR
VERSION:2.0
PRODID:-//Birch&#039;s on the Lake - ECPv6.15.20//NONSGML v1.0//EN
CALSCALE:GREGORIAN
METHOD:PUBLISH
X-WR-CALNAME:Birch&#039;s on the Lake
X-ORIGINAL-URL:https://birchsonthelake.com
X-WR-CALDESC:Events for Birch&#039;s on the Lake
REFRESH-INTERVAL;VALUE=DURATION:PT1H
X-Robots-Tag:noindex
X-PUBLISHED-TTL:PT1H
BEGIN:VTIMEZONE
TZID:America/New_York
BEGIN:DAYLIGHT
TZOFFSETFROM:-0500
TZOFFSETTO:-0400
TZNAME:EDT
DTSTART:20210314T070000
END:DAYLIGHT
BEGIN:STANDARD
TZOFFSETFROM:-0400
TZOFFSETTO:-0500
TZNAME:EST
DTSTART:20211107T060000
END:STANDARD
BEGIN:DAYLIGHT
TZOFFSETFROM:-0500
TZOFFSETTO:-0400
TZNAME:EDT
DTSTART:20220313T070000
END:DAYLIGHT
BEGIN:STANDARD
TZOFFSETFROM:-0400
TZOFFSETTO:-0500
TZNAME:EST
DTSTART:20221106T060000
END:STANDARD
BEGIN:DAYLIGHT
TZOFFSETFROM:-0500
TZOFFSETTO:-0400
TZNAME:EDT
DTSTART:20230312T070000
END:DAYLIGHT
BEGIN:STANDARD
TZOFFSETFROM:-0400
TZOFFSETTO:-0500
TZNAME:EST
DTSTART:20231105T060000
END:STANDARD
BEGIN:DAYLIGHT
TZOFFSETFROM:-0500
TZOFFSETTO:-0400
TZNAME:EDT
DTSTART:20240310T070000
END:DAYLIGHT
BEGIN:STANDARD
TZOFFSETFROM:-0400
TZOFFSETTO:-0500
TZNAME:EST
DTSTART:20241103T060000
END:STANDARD
END:VTIMEZONE
BEGIN:VTIMEZONE
TZID:UTC
BEGIN:STANDARD
TZOFFSETFROM:+0000
TZOFFSETTO:+0000
TZNAME:UTC
DTSTART:20220101T000000
END:STANDARD
END:VTIMEZONE
BEGIN:VEVENT
DTSTART;TZID=America/New_York:20230630T200000
DTEND;TZID=America/New_York:20230630T230000
DTSTAMP:20260425T121804
CREATED:20180906T231553Z
LAST-MODIFIED:20230531T191040Z
UID:1480-1688155200-1688166000@birchsonthelake.com
SUMMARY:Live music in the Brewhouse with The Merchants of Soul
DESCRIPTION:Live music in the Brewhouse with Brian Dickenson duo performing from 8-11pm. Come early to get a seat!
URL:https://birchsonthelake.com/event/acoustic-thursday-with-brian-dickenson/
LOCATION:Birch’s on the Lake | Brewhouse\, 1310 Wayzata Boulevard\, Long Lake\, MN\, 55356\, United States
CATEGORIES:Brewhouse
ATTACH;FMTTYPE=image/jpeg:https://birchsonthelake.com/wp-content/uploads/2018/09/merchantsofsoul.jpg
END:VEVENT
BEGIN:VEVENT
DTSTART;TZID=America/New_York:20230630T110000
DTEND;TZID=America/New_York:20230704T170000
DTSTAMP:20260425T121804
CREATED:20230628T200705Z
LAST-MODIFIED:20230628T213346Z
UID:4049-1688122800-1688490000@birchsonthelake.com
SUMMARY:Birch's Picnic Pack To Go
DESCRIPTION:Order Birch’s Picnic Pack To Go for you 4th of July Holiday Celebration this weekend!  Comes packed ready to Cook Your Own Birch’s Burgers\, Marinated Chicken Breasts and Bratwurst complete with all the sides and condiments. Serves 6-8 $249  Let Birch’s make your celebration this weekend easy and delicious.  Order Yours Today!  Call 952-473-7373. \nPurchase Picnic To Go
URL:https://birchsonthelake.com/event/birchs-picnic-pack-to-go/
LOCATION:Birch’s on the Lake\, 1310 Wayzata Boulevard\, Long Lake\, MN\, 55356\, United States
ATTACH;FMTTYPE=image/png:https://birchsonthelake.com/wp-content/uploads/2023/06/Screenshot-2023-06-28-at-2.51.03-PM-e1688046544994.png
END:VEVENT
BEGIN:VEVENT
DTSTART;TZID=America/New_York:20230629T180000
DTEND;TZID=America/New_York:20230629T190000
DTSTAMP:20260425T121804
CREATED:20230621T172537Z
LAST-MODIFIED:20230621T172537Z
UID:4044-1688061600-1688065200@birchsonthelake.com
SUMMARY:Gearwest Log Rolling Instruction Event
DESCRIPTION:EVENT: Everything You Never Knew About Log Rolling – FREE EVENT! \nWHAT: Learn the basics of log rolling on Long Lake and stay for a brew (or two!). Join World Champion Log Roller Ellie Davenport for 30 minutes of log rolling practice. Then\, put your skills to the test at 6:45 when we kick of a mini tournament. Enjoy a complimentary beer and lake views post tournament!Log rolling is a sport where two people stand atop a free-floating log and work to get each other off balance. Bring a towel and put your game face on for 30 minutes of practice before competing in a mini-tournament.  \nSCHEDULE: \n6:00 Meet on the back patio near the water\, drop off your towel and\, meet your instructor \n6:00 – 6:10 What is log rolling\, how do I do it? (Dry land instruction)  \n6:10 – 6:30 Group instruction (On log/water)  \n6:30 – 6:45 Tournament Kick-Off (Game on!) \n6:45 – 7:00 Open rolling + celebration (Time to grab a brew!)
URL:https://birchsonthelake.com/event/gearwest-log-rolling-instruction-event/
LOCATION:Birch’s on the Lake | Brewhouse\, 1310 Wayzata Boulevard\, Long Lake\, MN\, 55356\, United States
ATTACH;FMTTYPE=image/png:https://birchsonthelake.com/wp-content/uploads/2023/06/Screenshot-2023-06-20-at-5.20.06-PM.png
END:VEVENT
BEGIN:VEVENT
DTSTART;TZID=UTC:20230624T200000
DTEND;TZID=UTC:20230624T230000
DTSTAMP:20260425T121804
CREATED:20180703T031702Z
LAST-MODIFIED:20230620T163952Z
UID:1382-1687636800-1687647600@birchsonthelake.com
SUMMARY:The Erin Livingston Duo
DESCRIPTION:Join us for a special night of music with Carol Z and Phil Duo performing at Birch’s Supperclub Stage in the Supperclub from 7:30-10:30pm. Reservations recommended for dining\, open seating at the bar.
URL:https://birchsonthelake.com/event/wayne-anthony-ensemble-4-7-copy-copy-copy-copy/
LOCATION:Birch’s on the Lake | Supperclub\, 1310 Wayzata Boulevard\, Long Lake\, MN\, 55356\, United States
CATEGORIES:Supperclub
ATTACH;FMTTYPE=image/png:https://birchsonthelake.com/wp-content/uploads/2018/07/Screenshot-2023-06-20-at-8.57.10-AM.png
END:VEVENT
BEGIN:VEVENT
DTSTART;TZID=America/New_York:20230614T190000
DTEND;TZID=America/New_York:20230614T210000
DTSTAMP:20260425T121804
CREATED:20230503T004840Z
LAST-MODIFIED:20230509T143002Z
UID:4012-1686769200-1686776400@birchsonthelake.com
SUMMARY:Decker & Gamble Album Release Concert
DESCRIPTION:Santa Barbara Records Presents the Decker and Gamble EP Release Concert!\nOrder your tickets now for Decker & Gamble’s epic Extended Play Release Concert presented by Santa Barbara Records\, performed by Singer/Songwriters Decker Velie and Bill Gamble.Don’t miss this opportunity to see the D&G duo showcase their music on the Birch’s on the Lake Brewhouse stage!
URL:https://birchsonthelake.com/event/decker-gamble-album-release-concert/
LOCATION:Birch’s on the Lake | Brewhouse\, 1310 Wayzata Boulevard\, Long Lake\, MN\, 55356\, United States
ATTACH;FMTTYPE=image/png:https://birchsonthelake.com/wp-content/uploads/2023/05/IMG_6325.png
END:VEVENT
BEGIN:VEVENT
DTSTART;TZID=America/New_York:20230609T190000
DTEND;TZID=America/New_York:20230609T220000
DTSTAMP:20260425T121804
CREATED:20190715T170750Z
LAST-MODIFIED:20230531T191637Z
UID:2042-1686337200-1686348000@birchsonthelake.com
SUMMARY:Trick Duo performing in the Brewhouse
DESCRIPTION:Catch Trick performing from 7-10pm in the Brewhouse.  Come out to enjoy great acoustic music & entertainment!
URL:https://birchsonthelake.com/event/trick/
LOCATION:Birch’s on the Lake | Deck\, 1310 Wayzata Boulevard\, Long Lake\, MN\, 55356\, United States
ATTACH;FMTTYPE=image/jpeg:https://birchsonthelake.com/wp-content/uploads/2019/07/trick.jpg
END:VEVENT
BEGIN:VEVENT
DTSTART;TZID=America/New_York:20230511T160000
DTEND;TZID=America/New_York:20230511T190000
DTSTAMP:20260425T121804
CREATED:20230425T185445Z
LAST-MODIFIED:20230425T185950Z
UID:3993-1683820800-1683831600@birchsonthelake.com
SUMMARY:Mother's Day Sip + Shop in the Brewhouse
DESCRIPTION:Join us for a night of shopping at our Mother’s Day Sip + Shop Event! Several vendors will be here with fabulous gifts for Mom….and a few for you too! Enjoy Birch’s cocktail specials and Happy Hour from 3-5pm. Girl’s Night Out!
URL:https://birchsonthelake.com/event/mothers-day-sip-shop-in-the-brewhouse/
LOCATION:Birch’s on the Lake | Brewhouse\, 1310 Wayzata Boulevard\, Long Lake\, MN\, 55356\, United States
ATTACH;FMTTYPE=image/png:https://birchsonthelake.com/wp-content/uploads/2023/04/Screenshot-2023-04-19-at-3.34.15-PM.png
END:VEVENT
BEGIN:VEVENT
DTSTART;TZID=America/New_York:20230504T173000
DTEND;TZID=America/New_York:20230504T230000
DTSTAMP:20260425T121804
CREATED:20181227T200429Z
LAST-MODIFIED:20230504T163828Z
UID:1707-1683221400-1683241200@birchsonthelake.com
SUMMARY:First Thursday Happy Hour in the Brewhouse
DESCRIPTION:First Thursday Happy Hour in the Brewhouse starting at 5:30pm with live music by the Shaw Brothers Duo from 6-9pm. \nHAPPY HOUR SPECIALS\n$5 Birch’s Beer\n$6 House white / red wine\n$6 Tito’s cocktails. \nCome out and join the Party!
URL:https://birchsonthelake.com/event/first-thursday-happy-hour-in-the-brewhouse/
LOCATION:Birch’s on the Lake | Brewhouse\, 1310 Wayzata Boulevard\, Long Lake\, MN\, 55356\, United States
CATEGORIES:Brewhouse
ATTACH;FMTTYPE=image/jpeg:https://birchsonthelake.com/wp-content/uploads/2018/12/343777792_915465053083033_3501454627664204249_n-1.jpg
END:VEVENT
BEGIN:VEVENT
DTSTART;TZID=America/New_York:20230428T200000
DTEND;TZID=America/New_York:20230428T233000
DTSTAMP:20260425T121804
CREATED:20190506T155413Z
LAST-MODIFIED:20230320T135210Z
UID:1935-1682712000-1682724600@birchsonthelake.com
SUMMARY:Good for Gary performing in the Brewhouse
DESCRIPTION:Good for Gary performing  in the Brewhouse April 28th from  8pm-11pm.  Can’t Wait! Tickets $10 at Eventbrite.com \nPurchase Tickets
URL:https://birchsonthelake.com/event/good-for-gary-back-in-the-brewhouse/
LOCATION:Birch’s on the Lake | Brewhouse\, 1310 Wayzata Boulevard\, Long Lake\, MN\, 55356\, United States
CATEGORIES:Brewhouse,Featured
ATTACH;FMTTYPE=image/jpeg:https://birchsonthelake.com/wp-content/uploads/2019/05/GoodforGary2021.jpg
END:VEVENT
BEGIN:VEVENT
DTSTART;TZID=America/New_York:20230331T200000
DTEND;TZID=America/New_York:20230331T230000
DTSTAMP:20260425T121804
CREATED:20211007T000436Z
LAST-MODIFIED:20230314T220939Z
UID:3292-1680292800-1680303600@birchsonthelake.com
SUMMARY:George Scott McKelvey in the Brewhouse
DESCRIPTION:Join us for live music in the Brewhouse with George Scott McKelvey performing from 8-11pm.  Come early to get a seat!
URL:https://birchsonthelake.com/event/george-scot-mckelvey-billy-johnson-in-the-brewhouse-copy/
LOCATION:Birch’s on the Lake | Brewhouse\, 1310 Wayzata Boulevard\, Long Lake\, MN\, 55356\, United States
ATTACH;FMTTYPE=image/jpeg:https://birchsonthelake.com/wp-content/uploads/2021/10/GeorgeScotEPCover.jpg
END:VEVENT
BEGIN:VEVENT
DTSTART;TZID=America/New_York:20230330T110000
DTEND;TZID=America/New_York:20230330T220000
DTSTAMP:20260425T121804
CREATED:20220919T190335Z
LAST-MODIFIED:20230314T223316Z
UID:3672-1680174000-1680213600@birchsonthelake.com
SUMMARY:Thirsty Thursday Crowler 4-Pack Special Only $24
DESCRIPTION:Thirsty Thursday Crowler NEW 4-Pack Special only $24! Regular price $30. Must be 21 or over and present ID upon pickup. Stop in to pick up your 4-pack or order online at birchsonthelake.com for Curbside Pickup.
URL:https://birchsonthelake.com/event/thirsty-thursday-crowler-4-pack-special-only-20-copy-copy-copy-copy/
LOCATION:Birch’s on the Lake\, 1310 Wayzata Boulevard\, Long Lake\, MN\, 55356\, United States
ATTACH;FMTTYPE=image/jpeg:https://birchsonthelake.com/wp-content/uploads/2020/12/thirstythursday1.jpg
END:VEVENT
BEGIN:VEVENT
DTSTART;TZID=America/New_York:20230323T110000
DTEND;TZID=America/New_York:20230323T220000
DTSTAMP:20260425T121804
CREATED:20230105T171425Z
LAST-MODIFIED:20230314T223241Z
UID:3856-1679569200-1679608800@birchsonthelake.com
SUMMARY:Thirsty Thursday Crowler 4-Pack Special Only $24
DESCRIPTION:Thirsty Thursday Crowler NEW 4-Pack Special only $24! Regular price $30. Must be 21 or over and present ID upon pickup. Stop in to pick up your 4-pack or order online at birchsonthelake.com for Curbside Pickup.
URL:https://birchsonthelake.com/event/thirsty-thursday-crowler-4-pack-special-only-20-copy-copy-copy-copy-copy/
LOCATION:Birch’s on the Lake\, 1310 Wayzata Boulevard\, Long Lake\, MN\, 55356\, United States
ATTACH;FMTTYPE=image/jpeg:https://birchsonthelake.com/wp-content/uploads/2020/12/thirstythursday1.jpg
END:VEVENT
BEGIN:VEVENT
DTSTART;TZID=America/New_York:20230316T110000
DTEND;TZID=America/New_York:20230316T220000
DTSTAMP:20260425T121804
CREATED:20230105T171535Z
LAST-MODIFIED:20230314T223202Z
UID:3857-1678964400-1679004000@birchsonthelake.com
SUMMARY:Thirsty Thursday Crowler 4-Pack Special Only $24
DESCRIPTION:Thirsty Thursday Crowler NEW 4-Pack Special only $24! Regular price $30. Must be 21 or over and present ID upon pickup. Stop in to pick up your 4-pack or order online at birchsonthelake.com for Curbside Pickup.
URL:https://birchsonthelake.com/event/thirsty-thursday-crowler-4-pack-special-only-20-copy-copy-copy-copy-2/
LOCATION:Birch’s on the Lake\, 1310 Wayzata Boulevard\, Long Lake\, MN\, 55356\, United States
ATTACH;FMTTYPE=image/jpeg:https://birchsonthelake.com/wp-content/uploads/2020/12/thirstythursday1.jpg
END:VEVENT
BEGIN:VEVENT
DTSTART;TZID=America/New_York:20230225T110000
DTEND;TZID=America/New_York:20230225T150000
DTSTAMP:20260425T121804
CREATED:20221116T192224Z
LAST-MODIFIED:20221117T213318Z
UID:3795-1677322800-1677337200@birchsonthelake.com
SUMMARY:Sled Dog Days at Birch's on the Lake
DESCRIPTION:Shoot across snow-covered Long Lake behind a team of Siberian Huskies from Paw Print Adventures and Birch’s on the Lake.  Tickets available on Eventbrite $45.00 for per person (3 and under are free) and includes a Brunch Buffet.   Join us before or after your ride for Brunch in the Brewhouse!  \nGet Tickets
URL:https://birchsonthelake.com/event/sled-dog-days-at-birchs-on-the-lake-copy-copy-copy-copy-copy-copy/
LOCATION:Birch’s on the Lake\, 1310 Wayzata Boulevard\, Long Lake\, MN\, 55356\, United States
ATTACH;FMTTYPE=image/png:https://birchsonthelake.com/wp-content/uploads/2021/12/Screen-Shot-2022-11-16-at-11.59.27-AM.png
END:VEVENT
BEGIN:VEVENT
DTSTART;TZID=America/New_York:20230218T110000
DTEND;TZID=America/New_York:20230218T150000
DTSTAMP:20260425T121804
CREATED:20221116T191925Z
LAST-MODIFIED:20230216T231456Z
UID:3794-1676718000-1676732400@birchsonthelake.com
SUMMARY:Sled Dog for Saturday 2/18/23 Cancelled
DESCRIPTION:To all attendees of the 2/18/23 Sled Dog Event: \n\nDue to the poor ice conditions which make it unsafe out on the lake\, we are not going to be able to hold our Sled Dog event this Saturday.  We have already refunded all tickets purchased for this event through Eventbrite.  There are still tickets available for the March 4th Sled Dog event online if you are interested in purchasing for that date.  We apologize for the inconvenience\, but need to keep the safety of our attendees and the dogs in priority.   \n\nThank you.\nGet Tickets
URL:https://birchsonthelake.com/event/sled-dog-days-at-birchs-on-the-lake-copy-copy-copy-copy-copy/
LOCATION:Birch’s on the Lake\, 1310 Wayzata Boulevard\, Long Lake\, MN\, 55356\, United States
ATTACH;FMTTYPE=image/png:https://birchsonthelake.com/wp-content/uploads/2021/12/Screen-Shot-2022-11-16-at-11.59.27-AM.png
END:VEVENT
BEGIN:VEVENT
DTSTART;TZID=America/New_York:20230216T170000
DTEND;TZID=America/New_York:20230216T190000
DTSTAMP:20260425T121804
CREATED:20230213T221056Z
LAST-MODIFIED:20230213T221218Z
UID:3906-1676566800-1676574000@birchsonthelake.com
SUMMARY:Northland's Open Skate Night with Mark Parrish
DESCRIPTION:
URL:https://birchsonthelake.com/event/northland/
LOCATION:Birch’s on the Lake\, 1310 Wayzata Boulevard\, Long Lake\, MN\, 55356\, United States
ATTACH;FMTTYPE=image/jpeg:https://birchsonthelake.com/wp-content/uploads/2023/02/Northland-Rink-01-scaled.jpg
END:VEVENT
BEGIN:VEVENT
DTSTART;TZID=America/New_York:20230214T193000
DTEND;TZID=America/New_York:20230214T223000
DTSTAMP:20260425T121804
CREATED:20200212T184102Z
LAST-MODIFIED:20230213T164122Z
UID:2329-1676403000-1676413800@birchsonthelake.com
SUMMARY:Liz Strauss at the Supperclub Stage
DESCRIPTION:We have live music in the Supperclub to celebrate Valentines’s Day!   Liz Strauss will be performing at the Supperclub Stage from 7:30-10:30pm.  Make your reservations today!  Cabaret fee $5 per person for Dining East seating.  Come early to get a seat!
URL:https://birchsonthelake.com/event/the-erica-west-group-at-the-piano-bar/
LOCATION:Birch’s on the Lake | Supperclub\, 1310 Wayzata Boulevard\, Long Lake\, MN\, 55356\, United States
CATEGORIES:Birch's on the Lake,Supperclub
ATTACH;FMTTYPE=image/jpeg:https://birchsonthelake.com/wp-content/uploads/2020/02/IMG_3356.jpg
END:VEVENT
BEGIN:VEVENT
DTSTART;TZID=America/New_York:20230211T110000
DTEND;TZID=America/New_York:20230211T150000
DTSTAMP:20260425T121804
CREATED:20221116T191548Z
LAST-MODIFIED:20221117T213235Z
UID:3793-1676113200-1676127600@birchsonthelake.com
SUMMARY:Sled Dog Days at Birch's on the Lake
DESCRIPTION:Shoot across snow-covered Long Lake behind a team of Siberian Huskies from Paw Print Adventures and Birch’s on the Lake.  Tickets available on Eventbrite $45.00 for per person (3 and under are free) and includes a Brunch Buffet.   Join us before or after your ride for Brunch in the Brewhouse!  \nGet Tickets
URL:https://birchsonthelake.com/event/sled-dog-days-at-birchs-on-the-lake-copy-copy-copy-copy/
LOCATION:Birch’s on the Lake\, 1310 Wayzata Boulevard\, Long Lake\, MN\, 55356\, United States
ATTACH;FMTTYPE=image/png:https://birchsonthelake.com/wp-content/uploads/2021/12/Screen-Shot-2022-11-16-at-11.59.27-AM.png
END:VEVENT
BEGIN:VEVENT
DTSTART;TZID=UTC:20230203T200000
DTEND;TZID=UTC:20230203T230000
DTSTAMP:20260425T121804
CREATED:20220729T163148Z
LAST-MODIFIED:20230204T020053Z
UID:3602-1675454400-1675465200@birchsonthelake.com
SUMMARY:Live Music Friday Nights in the Brewhouse with Daniel Nathan
DESCRIPTION:Join us for live music tonight in the Brewhouse with Don Douglas performing from 8-11pm. Come early to get a seat!
URL:https://birchsonthelake.com/event/live-music-friday-nights-in-the-brewhouse-2/
LOCATION:Birch’s on the Lake | Brewhouse\, 1310 Wayzata Boulevard\, Long Lake\, MN\, 55356\, United States
CATEGORIES:Brewhouse
ATTACH;FMTTYPE=image/png:https://birchsonthelake.com/wp-content/uploads/2022/07/Screen-Shot-2022-03-16-at-10.40.00-AM.png
END:VEVENT
BEGIN:VEVENT
DTSTART;TZID=America/New_York:20230128T110000
DTEND;TZID=America/New_York:20230128T150000
DTSTAMP:20260425T121804
CREATED:20221116T191250Z
LAST-MODIFIED:20221117T213209Z
UID:3792-1674903600-1674918000@birchsonthelake.com
SUMMARY:Sled Dog Days at Birch's on the Lake
DESCRIPTION:Shoot across snow-covered Long Lake behind a team of Siberian Huskies from Paw Print Adventures and Birch’s on the Lake.  Tickets available on Eventbrite $45.00 for per person (3 and under are free) and includes a Brunch Buffet.   Join us before or after your ride for Brunch in the Brewhouse!  \nGet Tickets
URL:https://birchsonthelake.com/event/sled-dog-days-at-birchs-on-the-lake-copy-copy-copy/
LOCATION:Birch’s on the Lake\, 1310 Wayzata Boulevard\, Long Lake\, MN\, 55356\, United States
ATTACH;FMTTYPE=image/png:https://birchsonthelake.com/wp-content/uploads/2021/12/Screen-Shot-2022-11-16-at-11.59.27-AM.png
END:VEVENT
BEGIN:VEVENT
DTSTART;TZID=America/New_York:20230121T193000
DTEND;TZID=America/New_York:20230121T223000
DTSTAMP:20260425T121804
CREATED:20190107T223820Z
LAST-MODIFIED:20230116T190053Z
UID:1730-1674329400-1674340200@birchsonthelake.com
SUMMARY:The Hall & Sol Band at the Supperclub Stage
DESCRIPTION:The Hall & Sol Band with their talented ensemble performing on Saturday\, January 21st at the Supperclub Stage from 7:30-10:30pm.  Dining reservations available at birchsonthelake.com or join us for walk-in seating at the bar.
URL:https://birchsonthelake.com/event/rachel-holder-henning-at-the-piano-bar/
LOCATION:Birch’s on the Lake | Supperclub\, 1310 Wayzata Boulevard\, Long Lake\, MN\, 55356\, United States
CATEGORIES:Supperclub
ATTACH;FMTTYPE=image/png:https://birchsonthelake.com/wp-content/uploads/2019/01/Screenshot-2023-01-10-at-8.36.21-AM.png
END:VEVENT
BEGIN:VEVENT
DTSTART;TZID=America/New_York:20230121T110000
DTEND;TZID=America/New_York:20230121T150000
DTSTAMP:20260425T121804
CREATED:20221116T190305Z
LAST-MODIFIED:20221117T213144Z
UID:3791-1674298800-1674313200@birchsonthelake.com
SUMMARY:Sled Dog Days at Birch's on the Lake
DESCRIPTION:Shoot across snow-covered Long Lake behind a team of Siberian Huskies from Paw Print Adventures and Birch’s on the Lake.  Tickets available on Eventbrite $45.00 for per person (3 and under are free) and includes a Brunch Buffet.   Join us before or after your ride for Brunch in the Brewhouse!  \nGet Tickets
URL:https://birchsonthelake.com/event/sled-dog-days-at-birchs-on-the-lake-copy-copy/
LOCATION:Birch’s on the Lake\, 1310 Wayzata Boulevard\, Long Lake\, MN\, 55356\, United States
ATTACH;FMTTYPE=image/png:https://birchsonthelake.com/wp-content/uploads/2021/12/Screen-Shot-2022-11-16-at-11.59.27-AM.png
END:VEVENT
BEGIN:VEVENT
DTSTART;TZID=America/New_York:20230119T110000
DTEND;TZID=America/New_York:20230119T220000
DTSTAMP:20260425T121804
CREATED:20210406T163921Z
LAST-MODIFIED:20230105T171530Z
UID:3145-1674126000-1674165600@birchsonthelake.com
SUMMARY:Thirsty Thursday Crowler 4-Pack Special Only $24
DESCRIPTION:Thirsty Thursday Crowler NEW 4-Pack Special only $24! Regular price $30. Must be 21 or over and present ID upon pickup. Stop in to pick up your 4-pack or order online at birchsonthelake.com for Curbside Pickup.
URL:https://birchsonthelake.com/event/thirsty-thursday-crowler-4-pack-special-only-20-copy-copy-copy/
LOCATION:Birch’s on the Lake\, 1310 Wayzata Boulevard\, Long Lake\, MN\, 55356\, United States
ATTACH;FMTTYPE=image/jpeg:https://birchsonthelake.com/wp-content/uploads/2020/12/thirstythursday1.jpg
END:VEVENT
BEGIN:VEVENT
DTSTART;TZID=America/New_York:20230114T110000
DTEND;TZID=America/New_York:20230114T150000
DTSTAMP:20260425T121804
CREATED:20221116T185832Z
LAST-MODIFIED:20230111T181443Z
UID:3790-1673694000-1673708400@birchsonthelake.com
SUMMARY:Sled Dog Days at Birch's on the Lake
DESCRIPTION:Shoot across snow-covered Long Lake behind a team of Siberian Huskies from Paw Print Adventures and Birch’s on the Lake.  Tickets available on Eventbrite $45.00 for per person (3 and under are free) and includes a Brunch Buffet.   Join us before or after your ride for Brunch in the Brewhouse! Service and gratuity not included.  \nGet Tickets
URL:https://birchsonthelake.com/event/sled-dog-days-at-birchs-on-the-lake-copy/
LOCATION:Birch’s on the Lake\, 1310 Wayzata Boulevard\, Long Lake\, MN\, 55356\, United States
ATTACH;FMTTYPE=image/png:https://birchsonthelake.com/wp-content/uploads/2021/12/Screen-Shot-2022-11-16-at-11.59.27-AM.png
END:VEVENT
BEGIN:VEVENT
DTSTART;TZID=America/New_York:20230113T200000
DTEND;TZID=America/New_York:20230113T230000
DTSTAMP:20260425T121804
CREATED:20190715T160434Z
LAST-MODIFIED:20230102T202117Z
UID:2039-1673640000-1673650800@birchsonthelake.com
SUMMARY:The Delicious Duo
DESCRIPTION:The Delicious Duo performing with Don Douglas and Todd Stewart in the Brewhouse from 8-11pm.  Come down to the brewhouse to check out the band!
URL:https://birchsonthelake.com/event/the-delicious-trio/
LOCATION:Birch’s on the Lake | Brewhouse\, 1310 Wayzata Boulevard\, Long Lake\, MN\, 55356\, United States
ATTACH;FMTTYPE=image/jpeg:https://birchsonthelake.com/wp-content/uploads/2019/07/IMG-6354.jpg
END:VEVENT
BEGIN:VEVENT
DTSTART;TZID=America/New_York:20230107T110000
DTEND;TZID=America/New_York:20230107T150000
DTSTAMP:20260425T121804
CREATED:20211203T201411Z
LAST-MODIFIED:20230107T155352Z
UID:3378-1673089200-1673103600@birchsonthelake.com
SUMMARY:Sled Dog Jan 7th Cancelled
DESCRIPTION:Attention Jan 7th Sled Dog Ticket Holders:\nYou have received an email notice and a refund for this event. Due to recent weather\, it is not possible to run the sled dog event this weekend. The amount of snowfall has made it impossible to provide the dogs with an adequate track to run on. We issued refunds for every ticket purchased for 1/7/23. There are tickets for future events still available to book. In addition\, we are looking at adding a March 4th sled dog event weather permitting. We apologize for the inconvenience and hope you are able to attend a later date.\nGet Tickets
URL:https://birchsonthelake.com/event/sled-dog-days-at-birchs-on-the-lake/
LOCATION:Birch’s on the Lake\, 1310 Wayzata Boulevard\, Long Lake\, MN\, 55356\, United States
ATTACH;FMTTYPE=image/png:https://birchsonthelake.com/wp-content/uploads/2021/12/Screen-Shot-2022-11-16-at-11.59.27-AM.png
END:VEVENT
BEGIN:VEVENT
DTSTART;TZID=America/New_York:20221218T100000
DTEND;TZID=America/New_York:20221218T130000
DTSTAMP:20260425T121804
CREATED:20221022T210327Z
LAST-MODIFIED:20221212T205710Z
UID:3717-1671357600-1671368400@birchsonthelake.com
SUMMARY:Birch's Breakfast with Santa
DESCRIPTION:Join us for Breakfast with Santa Sid at Birch’s on the Lake! Visit with Santa and enjoy a delicious breakfast buffet for the grown ups\, and a special buffet for Santa’s Little Helpers with all the favorites for little ones. Served from 10am-1pm with multiple Brunch dates to choose from in November & December.  Reserve your Santa Brunch date today!
URL:https://birchsonthelake.com/event/birchs-santa-brunch-copy-5-copy-4-copy-2-copy-copy-copy-copy-2/
LOCATION:Birch’s on the Lake | Supperclub\, 1310 Wayzata Boulevard\, Long Lake\, MN\, 55356\, United States
CATEGORIES:Supperclub
ATTACH;FMTTYPE=image/png:https://birchsonthelake.com/wp-content/uploads/2021/10/Screen-Shot-2022-10-05-at-2.33.43-PM-1-e1667249084306.png
END:VEVENT
BEGIN:VEVENT
DTSTART;TZID=America/New_York:20221217T100000
DTEND;TZID=America/New_York:20221217T130000
DTSTAMP:20260425T121804
CREATED:20221022T210116Z
LAST-MODIFIED:20221212T205729Z
UID:3715-1671271200-1671282000@birchsonthelake.com
SUMMARY:Birch's Breakfast with Santa
DESCRIPTION:Join us for Breakfast with Santa Sid at Birch’s on the Lake! Visit with Santa and enjoy a delicious Santa’s breakfast buffet for the grown ups\, and a special buffet for Santa’s Little Helpers with all the favorites for little ones. Served from 10am-1pm with multiple Brunch dates to choose from in November & December.  Reserve your Santa Brunch date today!
URL:https://birchsonthelake.com/event/birchs-santa-brunch-copy-5-copy-4-copy-2-copy-copy-copy/
LOCATION:Birch’s on the Lake | Supperclub\, 1310 Wayzata Boulevard\, Long Lake\, MN\, 55356\, United States
CATEGORIES:Supperclub
ATTACH;FMTTYPE=image/png:https://birchsonthelake.com/wp-content/uploads/2021/10/Screen-Shot-2022-10-05-at-2.33.43-PM-1-e1667249084306.png
END:VEVENT
BEGIN:VEVENT
DTSTART;TZID=America/New_York:20221211T100000
DTEND;TZID=America/New_York:20221211T130000
DTSTAMP:20260425T121804
CREATED:20221022T210004Z
LAST-MODIFIED:20221212T205744Z
UID:3713-1670752800-1670763600@birchsonthelake.com
SUMMARY:Birch's Breakfast with Santa
DESCRIPTION:Join us for Breakfast with Santa Sid at Birch’s on the Lake! Visit with Santa and enjoy a delicious breakfast buffet for the grown ups\, and a special buffet for Santa’s Little Helpers with all the favorites for little ones. Served from 10am-1pm with multiple Brunch dates to choose from in November & December.  Reserve your Santa Brunch date today!
URL:https://birchsonthelake.com/event/birchs-santa-brunch-copy-5-copy-4-copy-2-copy-copy/
LOCATION:Birch’s on the Lake | Supperclub\, 1310 Wayzata Boulevard\, Long Lake\, MN\, 55356\, United States
CATEGORIES:Supperclub
ATTACH;FMTTYPE=image/png:https://birchsonthelake.com/wp-content/uploads/2021/10/Screen-Shot-2022-10-05-at-2.33.43-PM-1-e1667249084306.png
END:VEVENT
BEGIN:VEVENT
DTSTART;TZID=America/New_York:20221210T100000
DTEND;TZID=America/New_York:20221210T130000
DTSTAMP:20260425T121804
CREATED:20221022T205927Z
LAST-MODIFIED:20221212T205754Z
UID:3712-1670666400-1670677200@birchsonthelake.com
SUMMARY:Birch's Breakfast with Santa
DESCRIPTION:Join us for Breakfast with Santa Sid at Birch’s on the Lake! Visit with Santa and enjoy a delicious breakfast buffet for the grown ups\, and a special buffet for Santa’s Little Helpers with all the favorites for little ones. Served from 10am-1pm with multiple Brunch dates to choose from in November & December.  Reserve your Santa Brunch date today!
URL:https://birchsonthelake.com/event/birchs-santa-brunch-copy-5-copy-4-copy-2-copy/
LOCATION:Birch’s on the Lake | Supperclub\, 1310 Wayzata Boulevard\, Long Lake\, MN\, 55356\, United States
CATEGORIES:Supperclub
ATTACH;FMTTYPE=image/png:https://birchsonthelake.com/wp-content/uploads/2021/10/Screen-Shot-2022-10-05-at-2.33.43-PM-1-e1667249084306.png
END:VEVENT
END:VCALENDAR