BEGIN:VCALENDAR
VERSION:2.0
PRODID:-//Birch&#039;s on the Lake - ECPv6.15.20//NONSGML v1.0//EN
CALSCALE:GREGORIAN
METHOD:PUBLISH
X-WR-CALNAME:Birch&#039;s on the Lake
X-ORIGINAL-URL:https://birchsonthelake.com
X-WR-CALDESC:Events for Birch&#039;s on the Lake
REFRESH-INTERVAL;VALUE=DURATION:PT1H
X-Robots-Tag:noindex
X-PUBLISHED-TTL:PT1H
BEGIN:VTIMEZONE
TZID:UTC
BEGIN:STANDARD
TZOFFSETFROM:+0000
TZOFFSETTO:+0000
TZNAME:UTC
DTSTART:20170101T000000
END:STANDARD
END:VTIMEZONE
BEGIN:VEVENT
DTSTART;TZID=UTC:20180513T160000
DTEND;TZID=UTC:20180513T200000
DTSTAMP:20260424T064211
CREATED:20180512T021758Z
LAST-MODIFIED:20180512T021834Z
UID:1204-1526227200-1526241600@birchsonthelake.com
SUMMARY:Mother's Day Dinner Buffet
DESCRIPTION:Treat Mom to Dinner at Birch’s for our Mother’s Day Dinner Buffet served from 4pm-8pm in the Supperclub.
URL:https://birchsonthelake.com/event/mothers-day-dinner-buffet/
LOCATION:Birch’s on the Lake | Supperclub\, 1310 Wayzata Boulevard\, Long Lake\, MN\, 55356\, United States
CATEGORIES:Supperclub
ATTACH;FMTTYPE=image/png:https://birchsonthelake.com/wp-content/uploads/2018/05/dinnerbuffet.png
END:VEVENT
BEGIN:VEVENT
DTSTART;TZID=UTC:20180513T150000
DTEND;TZID=UTC:20180513T180000
DTSTAMP:20260424T064211
CREATED:20180417T014632Z
LAST-MODIFIED:20180417T020648Z
UID:1152-1526223600-1526234400@birchsonthelake.com
SUMMARY:Live Music on the Deck with Dan Ristrom
DESCRIPTION:Enjoy the view on Long Lake and Live music on the Deck with Dan Ristrom performing Sunday\, May13th from 3-6pm.
URL:https://birchsonthelake.com/event/live-music-on-the-deck-5-13-dan-ristrom/
LOCATION:Birch’s on the Lake | Deck\, 1310 Wayzata Boulevard\, Long Lake\, MN\, 55356\, United States
CATEGORIES:Brewhouse,Deck
ATTACH;FMTTYPE=image/png:https://birchsonthelake.com/wp-content/uploads/2018/04/danristrom.png
END:VEVENT
BEGIN:VEVENT
DTSTART;TZID=UTC:20180513T090000
DTEND;TZID=UTC:20180513T140000
DTSTAMP:20260424T064211
CREATED:20180404T200857Z
LAST-MODIFIED:20180426T025832Z
UID:1045-1526202000-1526220000@birchsonthelake.com
SUMMARY:Mother's Day Brunch Buffet
DESCRIPTION:Treat Mom to a wonderful Mother’s Day Brunch for Mother’s Day Sunday May 13th from 9am-2pm.  Enjoy the delicious spread at our buffet stations\, the beautiful view at Birch’s on the Lake and a complimentary Mimosa for Mom.  $45 for adults\, $17.95 for kids 12 and under\, and 5 and under are free. Reserve your table for Brunch or Dinner today! \n  \nView Menu
URL:https://birchsonthelake.com/event/mothers-day-brunch-buffet/
LOCATION:Birch’s on the Lake | Supperclub\, 1310 Wayzata Boulevard\, Long Lake\, MN\, 55356\, United States
CATEGORIES:Supperclub
ATTACH;FMTTYPE=image/png:https://birchsonthelake.com/wp-content/uploads/2018/04/mothersdaybanner.png
END:VEVENT
BEGIN:VEVENT
DTSTART;TZID=UTC:20180511T193000
DTEND;TZID=UTC:20180511T223000
DTSTAMP:20260424T064211
CREATED:20180417T021239Z
LAST-MODIFIED:20180417T021321Z
UID:1158-1526067000-1526077800@birchsonthelake.com
SUMMARY:Benny Weinbeck Duo in the Supper Club Piano Bar
DESCRIPTION:Recurring Event Benny Weinbeck Duo in the Supper Club Piano Bar
URL:https://birchsonthelake.com/event/recurring-event-benny-weinbeck-duo-in-the-supper-club-piano-bar-5-11/
LOCATION:Birch’s on the Lake | Supperclub\, 1310 Wayzata Boulevard\, Long Lake\, MN\, 55356\, United States
CATEGORIES:Supperclub
ATTACH;FMTTYPE=image/jpeg:https://birchsonthelake.com/wp-content/uploads/2018/03/2516b405-848f-41bb-ab26-e1e5e97f91a9_h-e1522254656334.jpg
END:VEVENT
BEGIN:VEVENT
DTSTART;TZID=UTC:20180511T190000
DTEND;TZID=UTC:20180511T220000
DTSTAMP:20260424T064211
CREATED:20180416T225537Z
LAST-MODIFIED:20180416T225632Z
UID:1131-1526065200-1526076000@birchsonthelake.com
SUMMARY:Two Hicks & a Chick | @ Brewhouse
DESCRIPTION:Two Hicks and a Chick combine powerful pipes and professional pickin’ with three-part honky-tonk harmony! We especially enjoy gettin’ the toes tappin’ at happy hours\, on the patio\, and during those otherwise weary weekday nights!
URL:https://birchsonthelake.com/event/two-hicks-a-chick-brewhouse-5-11/
LOCATION:Birch’s on the Lake | Supperclub\, 1310 Wayzata Boulevard\, Long Lake\, MN\, 55356\, United States
CATEGORIES:Brewhouse
ATTACH;FMTTYPE=image/jpeg:https://birchsonthelake.com/wp-content/uploads/2018/03/twohicks-chick.jpg
END:VEVENT
BEGIN:VEVENT
DTSTART;TZID=UTC:20180510T190000
DTEND;TZID=UTC:20180510T220000
DTSTAMP:20260424T064211
CREATED:20180404T195245Z
LAST-MODIFIED:20180404T195855Z
UID:1037-1525978800-1525989600@birchsonthelake.com
SUMMARY:Acoustic Thursday with Max Krauth
DESCRIPTION:Acoustic Thursdays in the Supperclub.  Live Music with Max Krauth at the Piano Bar. Acoustic music every Thursday AND Birch’s Late Night Happy Hour 8-10pm featuring $4 Cocktails\, $3 Beers\, $4 House wine and 1/2 price tacos\, wings & flatbread.
URL:https://birchsonthelake.com/event/acoustic-thursday-with-max-krauth-2/
LOCATION:Birch’s on the Lake | Supperclub\, 1310 Wayzata Boulevard\, Long Lake\, MN\, 55356\, United States
CATEGORIES:Supperclub
ATTACH;FMTTYPE=image/jpeg:https://birchsonthelake.com/wp-content/uploads/2018/04/7c17c88f-5366-46d3-b62f-b8f8c91333ee_h.jpg
END:VEVENT
BEGIN:VEVENT
DTSTART;TZID=UTC:20180506T150000
DTEND;TZID=UTC:20180506T180000
DTSTAMP:20260424T064211
CREATED:20180416T230555Z
LAST-MODIFIED:20180416T230555Z
UID:1134-1525618800-1525629600@birchsonthelake.com
SUMMARY:Live Music on the Deck with Steve Daly
DESCRIPTION:Enjoy the view on Long Lake and Live music on the Deck with Steve Daly performing Sunday\, May 6th from 3-6pm.
URL:https://birchsonthelake.com/event/live-music-on-the-deck-with-steve-daly/
LOCATION:Birch’s on the Lake | Brewhouse\, 1310 Wayzata Boulevard\, Long Lake\, MN\, 55356\, United States
CATEGORIES:Brewhouse
ATTACH;FMTTYPE=image/jpeg:https://birchsonthelake.com/wp-content/uploads/2018/04/Steve-daly.jpg
END:VEVENT
BEGIN:VEVENT
DTSTART;TZID=UTC:20180505T120000
DTEND;TZID=UTC:20180505T233000
DTSTAMP:20260424T064211
CREATED:20180404T200202Z
LAST-MODIFIED:20180503T025737Z
UID:1043-1525521600-1525563000@birchsonthelake.com
SUMMARY:Twin Cities Kentucky Derby Party
DESCRIPTION:The 2nd Annual Twin Cities Kentucky Derby Party hosted by First Thursday Happy Hour celebrates our community of friends coming together in elegant hats\, dresses\, seersucker\, cigars and Mint Juleps… honoring the traditions established at the venerable Churchill Downs! \nThe party kicks off at Noon. The Turf Club VIP Party in the Supperclub is sponsored by Audi Mpls/St.Paul and Cambria.\nTurf Club VIP ticket holders kick -off the party in the Supperclub at Noon and enjoy an Open Bar\, beautiful Brunch Buffet and live music at the Piano Bar until 3pm. This is a very limited ticket and will sell out fast! Grandstand ticket holders kick-of the party in the Brewhouse at noon with delicious appetizers & mint julep tasters passed by Redemption Liquor Ambassadors 1-3pm\, cash bar and pre-race event big screen viewing. The Brewhouse has access to the Deck where the live music starts at 2pm with Bluegrass music from “The High 48s” playing outdoors from 2-5pm. DJ Ronny D will be mixing tunes in the Brewhouse from 2-4pm. Mix and mingle with some of the most fun people in the Twin Cities. Enjoy the Brewhouse\, the Deck or the Boathouse area. \n5:24pm is Post time\, and all eyes will turn to the screens for what is commonly referred to as the most exciting two minutes in sports\, and also as “The Run for the Roses®!” \nFollowing the Race the contest winners are announced. Past winners will tell you to dress Derby style to possibly win “Best Dressed”\, “Best Dressed Couple”\, “Best Hat” and more! \nAfter the race get down with the funky sounds of DJ Ronny D\, and then let’s dance off all those Mint Juleps in style! Don’t forget that May 5th is also Cinco de Mayo\, so stay for the Cindo de Mayo Dance Party in the Brewhouse from 7-10pm. We can’t wait to welcome you to a fun-filled day! \n  \nThe 144th consecutive running of the Kentucky Derby will be the latest in a colorful history of horse racing. For more information on the history\, see https://www.kentuckyderby.com/history/kentucky-derby-history . You will also see on the website lots of pictures to inspire your attire and attitude for the day’s events at Birch’s on the Lake Brewhouse & Supperclub! \nAfter the race get down the funky sounds of DJ Ronny D\, and a special late night performance you will need to stay tuned for… \, and then let’s dance off all those Mint Juleps in style! Don’t forget that May 5th is also Cinco de Mayo\, and you can bet we’ll have a little surprise in store for our guests. We can’t wait to welcome you to a fun-filled day!
URL:https://birchsonthelake.com/event/twin-cities-kentucky-derby-party/
LOCATION:Birch’s on the Lake\, 1310 Wayzata Boulevard\, Long Lake\, MN\, 55356\, United States
CATEGORIES:Brewhouse,Supperclub
ATTACH;FMTTYPE=image/jpeg:https://birchsonthelake.com/wp-content/uploads/2018/04/derby-event.jpg
END:VEVENT
BEGIN:VEVENT
DTSTART;TZID=UTC:20180504T193000
DTEND;TZID=UTC:20180504T223000
DTSTAMP:20260424T064211
CREATED:20180417T021126Z
LAST-MODIFIED:20180417T021211Z
UID:1157-1525462200-1525473000@birchsonthelake.com
SUMMARY:Benny Weinbeck Duo in the Supper Club Piano Bar
DESCRIPTION:Recurring Event Benny Weinbeck Duo in the Supper Club Piano Bar
URL:https://birchsonthelake.com/event/recurring-event-benny-weinbeck-duo-in-the-supper-club-piano-bar-5-4/
LOCATION:Birch’s on the Lake | Supperclub\, 1310 Wayzata Boulevard\, Long Lake\, MN\, 55356\, United States
CATEGORIES:Supperclub
ATTACH;FMTTYPE=image/jpeg:https://birchsonthelake.com/wp-content/uploads/2018/03/2516b405-848f-41bb-ab26-e1e5e97f91a9_h-e1522254656334.jpg
END:VEVENT
BEGIN:VEVENT
DTSTART;TZID=UTC:20180502T170000
DTEND;TZID=UTC:20180502T190000
DTSTAMP:20260424T064211
CREATED:20180426T234210Z
LAST-MODIFIED:20180427T012552Z
UID:1196-1525280400-1525287600@birchsonthelake.com
SUMMARY:Farahbean Spring Trunk Show
DESCRIPTION:Farahbean Spring Trunk Show in the Brewhouse Wednesday\, May 2nd from 5pm-7pm. Try our new Strawberry Sour Ale while you shop the lastest Farahbean trends. Farahbean will be donating 10% of proceeds to#teambetsy.
URL:https://birchsonthelake.com/event/farahbean-spring-trunk-show/
LOCATION:MN
CATEGORIES:Brewhouse
ATTACH;FMTTYPE=image/png:https://birchsonthelake.com/wp-content/uploads/2018/04/farahbean.png
END:VEVENT
BEGIN:VEVENT
DTSTART;TZID=UTC:20180430T110000
DTEND;TZID=UTC:20180430T200000
DTSTAMP:20260424T064211
CREATED:20180416T222517Z
LAST-MODIFIED:20180416T232741Z
UID:1123-1525086000-1525118400@birchsonthelake.com
SUMMARY:Monday Fish Fry Special
DESCRIPTION:Our Wisconsin Fish Fry with beer battered Lake Superior whitefish\, hand-cut fries\, house tarter and Birch’s slaw for only $13.  Join us for Lunch or Dinner – served from 11am to 8pm every Monday.
URL:https://birchsonthelake.com/event/monday-fish-fry-special-4/
LOCATION:Birch’s on the Lake\, 1310 Wayzata Boulevard\, Long Lake\, MN\, 55356\, United States
CATEGORIES:Birch's on the Lake
ATTACH;FMTTYPE=image/jpeg:https://birchsonthelake.com/wp-content/uploads/2018/04/fish-fry-monday.jpg
END:VEVENT
BEGIN:VEVENT
DTSTART;TZID=UTC:20180429T150000
DTEND;TZID=UTC:20180429T180000
DTSTAMP:20260424T064211
CREATED:20180416T230107Z
LAST-MODIFIED:20180416T230107Z
UID:1132-1525014000-1525024800@birchsonthelake.com
SUMMARY:Music on the Deck with Max Krauth
DESCRIPTION:Our first Deck Music Sunday for Spring 2018!  Enjoy Max Krauth performing live on the Deck from 3-6pm Sunday\, April 29th.
URL:https://birchsonthelake.com/event/music-on-the-deck-with-max-krauth/
LOCATION:Birch’s on the Lake | Brewhouse\, 1310 Wayzata Boulevard\, Long Lake\, MN\, 55356\, United States
CATEGORIES:Brewhouse
ATTACH;FMTTYPE=image/jpeg:https://birchsonthelake.com/wp-content/uploads/2018/04/MaxPromo.jpg
END:VEVENT
BEGIN:VEVENT
DTSTART;TZID=UTC:20180428T200000
DTEND;TZID=UTC:20180428T234500
DTSTAMP:20260424T064211
CREATED:20180412T233907Z
LAST-MODIFIED:20180412T234018Z
UID:1113-1524945600-1524959100@birchsonthelake.com
SUMMARY:H$B in the Brewhouse
DESCRIPTION:H&B Live in the Brewhouse from 8:00pm-11:45pm.  Don’t miss the Party!
URL:https://birchsonthelake.com/event/hb-in-the-brewhouse-2/
LOCATION:Birch’s on the Lake | Brewhouse\, 1310 Wayzata Boulevard\, Long Lake\, MN\, 55356\, United States
CATEGORIES:Brewhouse
ATTACH;FMTTYPE=image/jpeg:https://birchsonthelake.com/wp-content/uploads/2018/04/hookers.jpg
END:VEVENT
BEGIN:VEVENT
DTSTART;TZID=UTC:20180428T200000
DTEND;TZID=UTC:20180428T230000
DTSTAMP:20260424T064211
CREATED:20180416T224909Z
LAST-MODIFIED:20180423T224014Z
UID:1129-1524945600-1524956400@birchsonthelake.com
SUMMARY:Wayne Anthony with Special Guest Fred Steele at the Piano Bar
DESCRIPTION:Fred Steele joins Wayne Anthony at the Piano Bar in the Supperclub 8pm-11pm.
URL:https://birchsonthelake.com/event/fred-steele-with-wayne-4-28/
LOCATION:Birch’s on the Lake | Supperclub\, 1310 Wayzata Boulevard\, Long Lake\, MN\, 55356\, United States
CATEGORIES:Supperclub
ATTACH;FMTTYPE=image/jpeg:https://birchsonthelake.com/wp-content/uploads/2018/04/Fred-Steele-685x685.jpg
END:VEVENT
BEGIN:VEVENT
DTSTART;TZID=UTC:20180427T193000
DTEND;TZID=UTC:20180427T223000
DTSTAMP:20260424T064211
CREATED:20180416T233401Z
LAST-MODIFIED:20180416T233442Z
UID:1139-1524857400-1524868200@birchsonthelake.com
SUMMARY:Benny Weinbeck Duo in the Supper Club Piano Bar
DESCRIPTION:Recurring Event Benny Weinbeck Duo in the Supper Club Piano Bar
URL:https://birchsonthelake.com/event/recurring-event-benny-weinbeck-duo-in-the-supper-club-piano-bar-4-27/
LOCATION:Birch’s on the Lake | Supperclub\, 1310 Wayzata Boulevard\, Long Lake\, MN\, 55356\, United States
CATEGORIES:Supperclub
ATTACH;FMTTYPE=image/jpeg:https://birchsonthelake.com/wp-content/uploads/2018/03/2516b405-848f-41bb-ab26-e1e5e97f91a9_h-e1522254656334.jpg
END:VEVENT
BEGIN:VEVENT
DTSTART;TZID=UTC:20180427T190000
DTEND;TZID=UTC:20180427T220000
DTSTAMP:20260424T064211
CREATED:20180416T224606Z
LAST-MODIFIED:20180416T225314Z
UID:1128-1524855600-1524866400@birchsonthelake.com
SUMMARY:Two Hicks & a Chick | @ Brewhouse
DESCRIPTION:Two Hicks and a Chick combine powerful pipes and professional pickin’ with three-part honky-tonk harmony! We especially enjoy gettin’ the toes tappin’ at happy hours\, on the patio\, and during those otherwise weary weekday nights!
URL:https://birchsonthelake.com/event/two-hicks-a-chick-brewhouse-4-27/
LOCATION:Birch’s on the Lake | Supperclub\, 1310 Wayzata Boulevard\, Long Lake\, MN\, 55356\, United States
CATEGORIES:Brewhouse
ATTACH;FMTTYPE=image/jpeg:https://birchsonthelake.com/wp-content/uploads/2018/03/twohicks-chick.jpg
END:VEVENT
BEGIN:VEVENT
DTSTART;TZID=UTC:20180427T180000
DTEND;TZID=UTC:20180427T200000
DTSTAMP:20260424T064211
CREATED:20180416T233905Z
LAST-MODIFIED:20180416T233949Z
UID:1141-1524852000-1524859200@birchsonthelake.com
SUMMARY:Suzanne the Magician
DESCRIPTION:Suzanne the Magician performs her amazing table-side magic from 6-8pm every Friday night!
URL:https://birchsonthelake.com/event/suzanne-the-magician-4-27/
LOCATION:Birch’s on the Lake\, 1310 Wayzata Boulevard\, Long Lake\, MN\, 55356\, United States
CATEGORIES:Birch's on the Lake
ATTACH;FMTTYPE=image/jpeg:https://birchsonthelake.com/wp-content/uploads/2018/03/susanmusician.jpg
END:VEVENT
BEGIN:VEVENT
DTSTART;TZID=UTC:20180426T190000
DTEND;TZID=UTC:20180426T220000
DTSTAMP:20260424T064211
CREATED:20180404T194958Z
LAST-MODIFIED:20180423T220530Z
UID:1035-1524769200-1524780000@birchsonthelake.com
SUMMARY:Acoustic Thursday with The Ropers
DESCRIPTION:Acoustic Thursdays in the Brewhouse with Live Music by The Ropers. Acoustic music every Thursday AND Birch’s Late Night Happy Hour 8-10pm featuring $3 Beers\, $4 House wine and 1/2 price tacos\, wings\, flatbread\, zucchini fries.  $4 Burt’s burgers and fresh oysters $2.50 each.
URL:https://birchsonthelake.com/event/acoustic-thursday-with-chad-whittaker/
LOCATION:Birch’s on the Lake | Brewhouse\, 1310 Wayzata Boulevard\, Long Lake\, MN\, 55356\, United States
CATEGORIES:Brewhouse
ATTACH;FMTTYPE=image/jpeg:https://birchsonthelake.com/wp-content/uploads/2018/04/The-Ropers.jpg
END:VEVENT
BEGIN:VEVENT
DTSTART;TZID=UTC:20180423T110000
DTEND;TZID=UTC:20180423T200000
DTSTAMP:20260424T064211
CREATED:20180416T222158Z
LAST-MODIFIED:20180416T222158Z
UID:1122-1524481200-1524513600@birchsonthelake.com
SUMMARY:Monday Fish Fry Special
DESCRIPTION:Our Wisconsin Fish Fry with beer battered Lake Superior whitefish\, hand-cut fries\, house tarter and Birch’s slaw for only $13.  Join us for Lunch or Dinner – served from 11am to 8pm every Monday.
URL:https://birchsonthelake.com/event/monday-fish-fry-special-3/
LOCATION:Birch’s on the Lake\, 1310 Wayzata Boulevard\, Long Lake\, MN\, 55356\, United States
CATEGORIES:Birch's on the Lake
ATTACH;FMTTYPE=image/jpeg:https://birchsonthelake.com/wp-content/uploads/2018/04/fish-fry-monday.jpg
END:VEVENT
BEGIN:VEVENT
DTSTART;TZID=UTC:20180421T200000
DTEND;TZID=UTC:20180421T230000
DTSTAMP:20260424T064211
CREATED:20180418T024948Z
LAST-MODIFIED:20180419T031709Z
UID:1173-1524340800-1524351600@birchsonthelake.com
SUMMARY:Carol Z & Phil Kadidlo at the Piano Bar
DESCRIPTION:
URL:https://birchsonthelake.com/event/wayne-anthony-ensemble-4-21/
LOCATION:Birch’s on the Lake | Supperclub\, 1310 Wayzata Boulevard\, Long Lake\, MN\, 55356\, United States
CATEGORIES:Supperclub
ATTACH;FMTTYPE=image/jpeg:https://birchsonthelake.com/wp-content/uploads/2018/04/CarolZPKDTMWrv1-.jpg
END:VEVENT
BEGIN:VEVENT
DTSTART;TZID=UTC:20180421T090000
DTEND;TZID=UTC:20180421T160000
DTSTAMP:20260424T064211
CREATED:20180328T214316Z
LAST-MODIFIED:20190113T234132Z
UID:1002-1524301200-1524326400@birchsonthelake.com
SUMMARY:Easter Brunch
DESCRIPTION:Join us for our spectacular Easter Brunch on Sunday\, April 21st from 9am-4pm. Enjoy the beautiful view & amazing buffet with Traditional Items plus a Raw Bar\, Carving Station and Chicken/Waffle & Omelette stations. The Easter Bunny will be here too! Make your reservations today! \n 
URL:https://birchsonthelake.com/event/easter-brunch/
LOCATION:Birch’s on the Lake | Supperclub\, 1310 Wayzata Boulevard\, Long Lake\, MN\, 55356\, United States
CATEGORIES:Supperclub
END:VEVENT
BEGIN:VEVENT
DTSTART;TZID=UTC:20180420T193000
DTEND;TZID=UTC:20180420T223000
DTSTAMP:20260424T064211
CREATED:20180416T223115Z
LAST-MODIFIED:20180416T223420Z
UID:1125-1524252600-1524263400@birchsonthelake.com
SUMMARY:Benny Weinbeck Duo in the Supper Club Piano Bar
DESCRIPTION:Recurring Event Benny Weinbeck Duo in the Supper Club Piano Bar
URL:https://birchsonthelake.com/event/recurring-event-benny-weinbeck-duo-in-the-supper-club-piano-bar-4-20/
LOCATION:Birch’s on the Lake | Supperclub\, 1310 Wayzata Boulevard\, Long Lake\, MN\, 55356\, United States
CATEGORIES:Supperclub
ATTACH;FMTTYPE=image/jpeg:https://birchsonthelake.com/wp-content/uploads/2018/03/2516b405-848f-41bb-ab26-e1e5e97f91a9_h-e1522254656334.jpg
END:VEVENT
BEGIN:VEVENT
DTSTART;TZID=UTC:20180420T180000
DTEND;TZID=UTC:20180420T200000
DTSTAMP:20260424T064211
CREATED:20180416T233656Z
LAST-MODIFIED:20180416T234043Z
UID:1140-1524247200-1524254400@birchsonthelake.com
SUMMARY:Suzanne the Magician
DESCRIPTION:Suzanne the Magician performs her amazing table-side magic from 6-8pm every Friday night!
URL:https://birchsonthelake.com/event/suzanne-the-magician-4-20/
LOCATION:Birch’s on the Lake\, 1310 Wayzata Boulevard\, Long Lake\, MN\, 55356\, United States
CATEGORIES:Birch's on the Lake
ATTACH;FMTTYPE=image/jpeg:https://birchsonthelake.com/wp-content/uploads/2018/03/susanmusician.jpg
END:VEVENT
BEGIN:VEVENT
DTSTART;TZID=UTC:20180416T110000
DTEND;TZID=UTC:20180416T200000
DTSTAMP:20260424T064211
CREATED:20180416T221823Z
LAST-MODIFIED:20180416T221823Z
UID:1121-1523876400-1523908800@birchsonthelake.com
SUMMARY:Monday Fish Fry Special
DESCRIPTION:Our Wisconsin Fish Fry with beer battered Lake Superior whitefish\, hand-cut fries\, house tarter and Birch’s slaw for only $13.  Join us for Lunch or Dinner – served from 11am to 8pm every Monday.
URL:https://birchsonthelake.com/event/monday-fish-fry-special-2/
LOCATION:Birch’s on the Lake\, 1310 Wayzata Boulevard\, Long Lake\, MN\, 55356\, United States
CATEGORIES:Birch's on the Lake
ATTACH;FMTTYPE=image/jpeg:https://birchsonthelake.com/wp-content/uploads/2018/04/fish-fry-monday.jpg
END:VEVENT
BEGIN:VEVENT
DTSTART;TZID=UTC:20180414T200000
DTEND;TZID=UTC:20180414T230000
DTSTAMP:20260424T064211
CREATED:20180418T024818Z
LAST-MODIFIED:20180418T024901Z
UID:1172-1523736000-1523746800@birchsonthelake.com
SUMMARY:Wayne Anthony Ensemble
DESCRIPTION:
URL:https://birchsonthelake.com/event/wayne-anthony-ensemble-4-14/
LOCATION:Birch’s on the Lake | Supperclub\, 1310 Wayzata Boulevard\, Long Lake\, MN\, 55356\, United States
CATEGORIES:Supperclub
ATTACH;FMTTYPE=image/jpeg:https://birchsonthelake.com/wp-content/uploads/2018/03/1bed700a-0734-4e95-b8a0-f714d7577eeb_h.jpg
END:VEVENT
BEGIN:VEVENT
DTSTART;TZID=UTC:20180413T190000
DTEND;TZID=UTC:20180413T220000
DTSTAMP:20260424T064211
CREATED:20180404T194327Z
LAST-MODIFIED:20180404T194418Z
UID:1030-1523646000-1523656800@birchsonthelake.com
SUMMARY:Two Hicks & a Chick | @ Brewhouse
DESCRIPTION:Two Hicks and a Chick combine powerful pipes and professional pickin’ with three-part honky-tonk harmony! We especially enjoy gettin’ the toes tappin’ at happy hours\, on the patio\, and during those otherwise weary weekday nights!
URL:https://birchsonthelake.com/event/two-hicks-a-chick-brewhouse-4-13/
LOCATION:Birch’s on the Lake | Supperclub\, 1310 Wayzata Boulevard\, Long Lake\, MN\, 55356\, United States
CATEGORIES:Brewhouse
ATTACH;FMTTYPE=image/jpeg:https://birchsonthelake.com/wp-content/uploads/2018/03/twohicks-chick.jpg
END:VEVENT
BEGIN:VEVENT
DTSTART;TZID=UTC:20180413T073000
DTEND;TZID=UTC:20180413T223000
DTSTAMP:20260424T064211
CREATED:20180412T232747Z
LAST-MODIFIED:20180412T232747Z
UID:1110-1523604600-1523658600@birchsonthelake.com
SUMMARY:Carol Z & Phil Kadidlo at the Piano Bar
DESCRIPTION:Carol Z and Phil Kadidlo at the Piano Bar in the Supperclub from 7:30-10:30.
URL:https://birchsonthelake.com/event/carol-z-phil-kadidlo-at-the-piano-bar/
LOCATION:Birch’s on the Lake | Supperclub\, 1310 Wayzata Boulevard\, Long Lake\, MN\, 55356\, United States
CATEGORIES:Supperclub
ATTACH;FMTTYPE=image/png:https://birchsonthelake.com/wp-content/uploads/2018/04/carolandphil.png
END:VEVENT
BEGIN:VEVENT
DTSTART;TZID=UTC:20180409T110000
DTEND;TZID=UTC:20180409T200000
DTSTAMP:20260424T064211
CREATED:20180404T194217Z
LAST-MODIFIED:20180404T201735Z
UID:1029-1523271600-1523304000@birchsonthelake.com
SUMMARY:Monday Fish Fry Special
DESCRIPTION:Our Wisconsin Fish Fry with beer battered Lake Superior whitefish\, hand-cut fries\, house tarter and Birch’s slaw for only $13.  Join us for Lunch or Dinner – served from 11am to 8pm every Monday.
URL:https://birchsonthelake.com/event/monday-fish-fry-special-4-9/
LOCATION:Birch’s on the Lake\, 1310 Wayzata Boulevard\, Long Lake\, MN\, 55356\, United States
CATEGORIES:Brewhouse,Supperclub
ATTACH;FMTTYPE=image/jpeg:https://birchsonthelake.com/wp-content/uploads/2018/04/fish-fry-monday.jpg
END:VEVENT
BEGIN:VEVENT
DTSTART;TZID=UTC:20180408T090000
DTEND;TZID=UTC:20180408T120000
DTSTAMP:20260424T064211
CREATED:20180404T194106Z
LAST-MODIFIED:20180404T194106Z
UID:1027-1523178000-1523188800@birchsonthelake.com
SUMMARY:Job Fair
DESCRIPTION:Birch’s Spring Job Fair – Held in the supperclub.  Hiring for all positions FOH and BOH.  Servers/Bartenders must have 3+ years fine dining experience\, Line Cooks 3+ years experience.
URL:https://birchsonthelake.com/event/job-fair/
LOCATION:Birch’s on the Lake\, 1310 Wayzata Boulevard\, Long Lake\, MN\, 55356\, United States
CATEGORIES:Brewhouse,Supperclub
ATTACH;FMTTYPE=image/jpeg:https://birchsonthelake.com/wp-content/uploads/2018/04/job-fair.jpg
END:VEVENT
BEGIN:VEVENT
DTSTART;TZID=UTC:20180407T200000
DTEND;TZID=UTC:20180407T230000
DTSTAMP:20260424T064211
CREATED:20180404T193624Z
LAST-MODIFIED:20180404T193733Z
UID:1026-1523131200-1523142000@birchsonthelake.com
SUMMARY:Wayne Anthony Ensemble
DESCRIPTION:
URL:https://birchsonthelake.com/event/wayne-anthony-ensemble-4-7/
LOCATION:Birch’s on the Lake | Supperclub\, 1310 Wayzata Boulevard\, Long Lake\, MN\, 55356\, United States
CATEGORIES:Supperclub
ATTACH;FMTTYPE=image/jpeg:https://birchsonthelake.com/wp-content/uploads/2018/03/1bed700a-0734-4e95-b8a0-f714d7577eeb_h.jpg
END:VEVENT
END:VCALENDAR