BEGIN:VCALENDAR
VERSION:2.0
PRODID:-//Birch&#039;s on the Lake - ECPv6.15.20//NONSGML v1.0//EN
CALSCALE:GREGORIAN
METHOD:PUBLISH
X-ORIGINAL-URL:https://birchsonthelake.com
X-WR-CALDESC:Events for Birch&#039;s on the Lake
REFRESH-INTERVAL;VALUE=DURATION:PT1H
X-Robots-Tag:noindex
X-PUBLISHED-TTL:PT1H
BEGIN:VTIMEZONE
TZID:UTC
BEGIN:STANDARD
TZOFFSETFROM:+0000
TZOFFSETTO:+0000
TZNAME:UTC
DTSTART:20250101T000000
END:STANDARD
END:VTIMEZONE
BEGIN:VEVENT
DTSTART;TZID=UTC:20260503T100000
DTEND;TZID=UTC:20260503T140000
DTSTAMP:20260423T065824
CREATED:20220413T165356Z
LAST-MODIFIED:20260408T172324Z
UID:3526-1777802400-1777816800@birchsonthelake.com
SUMMARY:Birch's on the Lake Job Fair
DESCRIPTION:Mark your calendars for our upcoming Job Fair on May 3rd! Stop by to apply and interview between 10am and 2pm. Open positions include food runner\, wait assistant\, host\, bartender and server. (bar and server positions require 3+ years experience). We can’t wait to meet you! \nCan’t make our Job Fair? Apply online at  https://birchsonthelake.com/contact/careers/
URL:https://birchsonthelake.com/event/birchs-on-the-lake-job-fair-2/
LOCATION:Birch’s on the Lake | Supperclub\, 1310 Wayzata Boulevard\, Long Lake\, MN\, 55356\, United States
ATTACH;FMTTYPE=image/jpeg:https://birchsonthelake.com/wp-content/uploads/2022/04/Birchs_JobFair_May2026.jpg
END:VEVENT
END:VCALENDAR