BEGIN:VCALENDAR
VERSION:2.0
PRODID:-//Birch&#039;s on the Lake - ECPv6.15.20//NONSGML v1.0//EN
CALSCALE:GREGORIAN
METHOD:PUBLISH
X-ORIGINAL-URL:https://birchsonthelake.com
X-WR-CALDESC:Events for Birch&#039;s on the Lake
REFRESH-INTERVAL;VALUE=DURATION:PT1H
X-Robots-Tag:noindex
X-PUBLISHED-TTL:PT1H
BEGIN:VTIMEZONE
TZID:America/New_York
BEGIN:DAYLIGHT
TZOFFSETFROM:-0500
TZOFFSETTO:-0400
TZNAME:EDT
DTSTART:20250309T070000
END:DAYLIGHT
BEGIN:STANDARD
TZOFFSETFROM:-0400
TZOFFSETTO:-0500
TZNAME:EST
DTSTART:20251102T060000
END:STANDARD
BEGIN:DAYLIGHT
TZOFFSETFROM:-0500
TZOFFSETTO:-0400
TZNAME:EDT
DTSTART:20260308T070000
END:DAYLIGHT
BEGIN:STANDARD
TZOFFSETFROM:-0400
TZOFFSETTO:-0500
TZNAME:EST
DTSTART:20261101T060000
END:STANDARD
BEGIN:DAYLIGHT
TZOFFSETFROM:-0500
TZOFFSETTO:-0400
TZNAME:EDT
DTSTART:20270314T070000
END:DAYLIGHT
BEGIN:STANDARD
TZOFFSETFROM:-0400
TZOFFSETTO:-0500
TZNAME:EST
DTSTART:20271107T060000
END:STANDARD
END:VTIMEZONE
BEGIN:VEVENT
DTSTART;TZID=America/New_York:20260413T150000
DTEND;TZID=America/New_York:20260413T210000
DTSTAMP:20260425T065211
CREATED:20191010T190821Z
LAST-MODIFIED:20260413T190406Z
UID:2161-1776092400-1776114000@birchsonthelake.com
SUMMARY:Monday Buckhorn Fried Chicken Special
DESCRIPTION:Join us every Monday for our 1/2 Price Buckhorn Fried Chicken Special from 3pm-9pm for only $16. Four pieces of our famous fried chicken served with coleslaw\, blonde ale mac-n-cheese\, cheddar biscuit & sriracha honey. Join us for every Monday!
URL:https://birchsonthelake.com/event/monday-buckhorn-fried-chicken-special-copy-3-copy-4/
LOCATION:Birch’s on the Lake\, 1310 Wayzata Boulevard\, Long Lake\, MN\, 55356\, United States
ATTACH;FMTTYPE=image/jpeg:https://birchsonthelake.com/wp-content/uploads/2026/01/Birchs_MonNightSpecial2025_1200x630.jpg
END:VEVENT
END:VCALENDAR